BEGIN:VCALENDAR
VERSION:2.0
PRODID:-//Mairie de Trieux - ECPv6.15.20//NONSGML v1.0//EN
CALSCALE:GREGORIAN
METHOD:PUBLISH
X-WR-CALNAME:Mairie de Trieux
X-ORIGINAL-URL:https://trieux.net
X-WR-CALDESC:Évènements pour Mairie de Trieux
REFRESH-INTERVAL;VALUE=DURATION:PT1H
X-Robots-Tag:noindex
X-PUBLISHED-TTL:PT1H
BEGIN:VTIMEZONE
TZID:Europe/Brussels
BEGIN:DAYLIGHT
TZOFFSETFROM:+0100
TZOFFSETTO:+0200
TZNAME:CEST
DTSTART:20140330T010000
END:DAYLIGHT
BEGIN:STANDARD
TZOFFSETFROM:+0200
TZOFFSETTO:+0100
TZNAME:CET
DTSTART:20141026T010000
END:STANDARD
BEGIN:DAYLIGHT
TZOFFSETFROM:+0100
TZOFFSETTO:+0200
TZNAME:CEST
DTSTART:20150329T010000
END:DAYLIGHT
BEGIN:STANDARD
TZOFFSETFROM:+0200
TZOFFSETTO:+0100
TZNAME:CET
DTSTART:20151025T010000
END:STANDARD
BEGIN:DAYLIGHT
TZOFFSETFROM:+0100
TZOFFSETTO:+0200
TZNAME:CEST
DTSTART:20160327T010000
END:DAYLIGHT
BEGIN:STANDARD
TZOFFSETFROM:+0200
TZOFFSETTO:+0100
TZNAME:CET
DTSTART:20161030T010000
END:STANDARD
END:VTIMEZONE
BEGIN:VEVENT
DTSTART;TZID=Europe/Brussels:20150711T163000
DTEND;TZID=Europe/Brussels:20150711T163000
DTSTAMP:20260422T140655
CREATED:20150630T095213Z
LAST-MODIFIED:20150630T212144Z
UID:658-1436632200-1436632200@trieux.net
SUMMARY:Festivités de la Fête Nationale
DESCRIPTION:
URL:https://trieux.net/event/festivites-de-la-fete-nationale/
LOCATION:Stade Municipal\, Trieux\, 54750\, France
CATEGORIES:Associations
END:VEVENT
BEGIN:VEVENT
DTSTART;TZID=Europe/Brussels:20150714T101500
DTEND;TZID=Europe/Brussels:20150714T120000
DTSTAMP:20260422T140655
CREATED:20150630T092514Z
LAST-MODIFIED:20150630T094941Z
UID:642-1436868900-1436875200@trieux.net
SUMMARY:Commémoration de la Fête Nationale du 14 juillet
DESCRIPTION:La Commémoration de la Fête Nationale du 14/07 \naura lieu le MARDI 14 JUILLET 2015 \nRassemblement au Monument aux Morts à 10H15 \nOuverture par l’Harmonie Municipale de Trieux \nPot de l’Amitié en Mairie \nLa population est vivement invitée à participer à cette commémoration.
URL:https://trieux.net/event/commemoration-de-la-fete-nationale-du-14-juillet/
LOCATION:Mairie deTrieux\, Place Jean Jaurès\, Trieux\, 54750\, France
END:VEVENT
BEGIN:VEVENT
DTSTART;VALUE=DATE:20150717
DTEND;VALUE=DATE:20150722
DTSTAMP:20260422T140655
CREATED:20150630T101552Z
LAST-MODIFIED:20150630T101552Z
UID:667-1437091200-1437523199@trieux.net
SUMMARY:Concours de Pétanque et de quilles / Concert Big Bang / Repas
DESCRIPTION:
URL:https://trieux.net/event/concours-de-petanque-et-de-quilles-concert-big-bang-repas/
LOCATION:Ecole Primaire de Tucquegnieux Marine\, Tucquegnieux\, 54640\, France
END:VEVENT
BEGIN:VEVENT
DTSTART;TZID=Europe/Brussels:20150726T110000
DTEND;TZID=Europe/Brussels:20150726T200000
DTSTAMP:20260422T140655
CREATED:20150630T095538Z
LAST-MODIFIED:20150630T101846Z
UID:660-1437908400-1437940800@trieux.net
SUMMARY:Journée guinguette avec le Gardon Triotin
DESCRIPTION:
URL:https://trieux.net/event/journee-guinguette/
LOCATION:Etang Communal\, Trieux\, 54750
END:VEVENT
END:VCALENDAR