BEGIN:VCALENDAR
VERSION:2.0
PRODID:-//Mairie de Trieux - ECPv6.15.20//NONSGML v1.0//EN
CALSCALE:GREGORIAN
METHOD:PUBLISH
X-WR-CALNAME:Mairie de Trieux
X-ORIGINAL-URL:https://trieux.net
X-WR-CALDESC:Évènements pour Mairie de Trieux
REFRESH-INTERVAL;VALUE=DURATION:PT1H
X-Robots-Tag:noindex
X-PUBLISHED-TTL:PT1H
BEGIN:VTIMEZONE
TZID:Europe/Brussels
BEGIN:DAYLIGHT
TZOFFSETFROM:+0100
TZOFFSETTO:+0200
TZNAME:CEST
DTSTART:20140330T010000
END:DAYLIGHT
BEGIN:STANDARD
TZOFFSETFROM:+0200
TZOFFSETTO:+0100
TZNAME:CET
DTSTART:20141026T010000
END:STANDARD
BEGIN:DAYLIGHT
TZOFFSETFROM:+0100
TZOFFSETTO:+0200
TZNAME:CEST
DTSTART:20150329T010000
END:DAYLIGHT
BEGIN:STANDARD
TZOFFSETFROM:+0200
TZOFFSETTO:+0100
TZNAME:CET
DTSTART:20151025T010000
END:STANDARD
BEGIN:DAYLIGHT
TZOFFSETFROM:+0100
TZOFFSETTO:+0200
TZNAME:CEST
DTSTART:20160327T010000
END:DAYLIGHT
BEGIN:STANDARD
TZOFFSETFROM:+0200
TZOFFSETTO:+0100
TZNAME:CET
DTSTART:20161030T010000
END:STANDARD
END:VTIMEZONE
BEGIN:VEVENT
DTSTART;TZID=Europe/Brussels:20150626T120000
DTEND;TZID=Europe/Brussels:20150626T140000
DTSTAMP:20260422T160211
CREATED:20150621T091448Z
LAST-MODIFIED:20150621T091713Z
UID:438-1435320000-1435327200@trieux.net
SUMMARY:MPT : Repas « Comme à la Maison »
DESCRIPTION:Afin d’améliorer la prise en compte des réservations pour les repas\, sachez qu’elles se font à partir du mois de mai auprès de Séverine ROCHA Tél. 06.99.38.27.12 et non plus en Mairie. \nMenu : \n\nMENU SURPRISE\n\nRappel : Ce repas est proposé à 8 € par personne\, il est servi de 12h00 à 13h30 salle de l’Auvergnat. Les réservations se font obligatoirement au plus tard le jeudi\, le nombre de places est limité à 24 personnes et toujours l’esprit de l’opération : un menu simple et traditionnel dans une ambiance amicale et conviviale.
URL:https://trieux.net/event/mpt-repas-comme-a-la-maison/
LOCATION:MPT Georges Brassens\, 77 avenue de la Libération\, Trieux\, 54750\, France
CATEGORIES:Associations
END:VEVENT
BEGIN:VEVENT
DTSTART;VALUE=DATE:20150627
DTEND;VALUE=DATE:20150628
DTSTAMP:20260422T160211
CREATED:20150621T091842Z
LAST-MODIFIED:20150621T091938Z
UID:439-1435363200-1435449599@trieux.net
SUMMARY:Gala de danse avec Art et Culture
DESCRIPTION:Renseignements au 06 76 11 36 50
URL:https://trieux.net/event/gala-de-danse-avec-art-et-culture/
LOCATION:MPT Georges Brassens\, 77 avenue de la Libération\, Trieux\, 54750\, France
CATEGORIES:Associations
END:VEVENT
BEGIN:VEVENT
DTSTART;VALUE=DATE:20150627
DTEND;VALUE=DATE:20150628
DTSTAMP:20260422T160211
CREATED:20150621T092116Z
LAST-MODIFIED:20150621T092258Z
UID:442-1435363200-1435449599@trieux.net
SUMMARY:Fête des Ecoles
DESCRIPTION:PROGRAMME DE LA FÊTE DES ÉCOLES \nA partir de 11H : Spectacle des enfants de maternelle partie I \n12H00 : Ouverture de la restauration et des jeux \n14H30 : Spectacle des enfants de l’élémentaire partie II \n16H30 : Goûter des enfants \nDe 16H à 18H : Olympiades organisées par les instituteurs \n17H : Démonstration de danse Country \n18H : Tirage de la tombola \nA partir de 18H30 : Lâcher de ballons \nA partir de 19H : Restauration rapide\, buvette et repas Concert Jazz
URL:https://trieux.net/event/fete-des-ecoles/
LOCATION:Stade Municipal\, Trieux\, 54750\, France
CATEGORIES:Associations
END:VEVENT
BEGIN:VEVENT
DTSTART;TZID=Europe/Brussels:20150628T150000
DTEND;TZID=Europe/Brussels:20150628T200000
DTSTAMP:20260422T160211
CREATED:20150621T092509Z
LAST-MODIFIED:20150621T092509Z
UID:447-1435503600-1435521600@trieux.net
SUMMARY:Finale Belote Saison 2014/2015
DESCRIPTION:
URL:https://trieux.net/event/finale-belote-saison-20142015/
LOCATION:MPT Georges Brassens\, 77 avenue de la Libération\, Trieux\, 54750\, France
CATEGORIES:Associations
END:VEVENT
BEGIN:VEVENT
DTSTART;TZID=Europe/Brussels:20150630T090000
DTEND;TZID=Europe/Brussels:20150630T160000
DTSTAMP:20260422T160211
CREATED:20150621T093349Z
LAST-MODIFIED:20150621T093349Z
UID:454-1435654800-1435680000@trieux.net
SUMMARY:Grande BRADERIE du Secours Catholique
DESCRIPTION:LE SECOURS CATHOLIQUE \nOrganise une Grande BRADERIE \nLE MARDI 30 JUIN de 9h à 16h \nRue Amédée LEMOINE \nAncienne Ecole des Garçons à TUCQUEGNIEUX \nLiquidation de vêtements d’été à moitié prix !!!
URL:https://trieux.net/event/grande-braderie-du-secours-catholique/
LOCATION:Ancienne Ecole de Garçons – Tucquegnieux\, Rue Amédée LEMOINE\, Tucquegnieux\, 54640\, France
CATEGORIES:Associations
END:VEVENT
END:VCALENDAR