BEGIN:VCALENDAR
VERSION:2.0
PRODID:-//Mairie de Trieux - ECPv6.15.20//NONSGML v1.0//EN
CALSCALE:GREGORIAN
METHOD:PUBLISH
X-ORIGINAL-URL:https://trieux.net
X-WR-CALDESC:Évènements pour Mairie de Trieux
REFRESH-INTERVAL;VALUE=DURATION:PT1H
X-Robots-Tag:noindex
X-PUBLISHED-TTL:PT1H
BEGIN:VTIMEZONE
TZID:Europe/Brussels
BEGIN:DAYLIGHT
TZOFFSETFROM:+0100
TZOFFSETTO:+0200
TZNAME:CEST
DTSTART:20140330T010000
END:DAYLIGHT
BEGIN:STANDARD
TZOFFSETFROM:+0200
TZOFFSETTO:+0100
TZNAME:CET
DTSTART:20141026T010000
END:STANDARD
BEGIN:DAYLIGHT
TZOFFSETFROM:+0100
TZOFFSETTO:+0200
TZNAME:CEST
DTSTART:20150329T010000
END:DAYLIGHT
BEGIN:STANDARD
TZOFFSETFROM:+0200
TZOFFSETTO:+0100
TZNAME:CET
DTSTART:20151025T010000
END:STANDARD
BEGIN:DAYLIGHT
TZOFFSETFROM:+0100
TZOFFSETTO:+0200
TZNAME:CEST
DTSTART:20160327T010000
END:DAYLIGHT
BEGIN:STANDARD
TZOFFSETFROM:+0200
TZOFFSETTO:+0100
TZNAME:CET
DTSTART:20161030T010000
END:STANDARD
END:VTIMEZONE
BEGIN:VEVENT
DTSTART;TZID=Europe/Brussels:20150626T120000
DTEND;TZID=Europe/Brussels:20150626T140000
DTSTAMP:20260422T182425
CREATED:20150621T091448Z
LAST-MODIFIED:20150621T091713Z
UID:438-1435320000-1435327200@trieux.net
SUMMARY:MPT : Repas « Comme à la Maison »
DESCRIPTION:Afin d’améliorer la prise en compte des réservations pour les repas\, sachez qu’elles se font à partir du mois de mai auprès de Séverine ROCHA Tél. 06.99.38.27.12 et non plus en Mairie. \nMenu : \n\nMENU SURPRISE\n\nRappel : Ce repas est proposé à 8 € par personne\, il est servi de 12h00 à 13h30 salle de l’Auvergnat. Les réservations se font obligatoirement au plus tard le jeudi\, le nombre de places est limité à 24 personnes et toujours l’esprit de l’opération : un menu simple et traditionnel dans une ambiance amicale et conviviale.
URL:https://trieux.net/event/mpt-repas-comme-a-la-maison/
LOCATION:MPT Georges Brassens\, 77 avenue de la Libération\, Trieux\, 54750\, France
CATEGORIES:Associations
END:VEVENT
END:VCALENDAR