BEGIN:VCALENDAR
VERSION:2.0
PRODID:-//Mairie de Trieux - ECPv6.15.20//NONSGML v1.0//EN
CALSCALE:GREGORIAN
METHOD:PUBLISH
X-WR-CALNAME:Mairie de Trieux
X-ORIGINAL-URL:https://trieux.net
X-WR-CALDESC:Évènements pour Mairie de Trieux
REFRESH-INTERVAL;VALUE=DURATION:PT1H
X-Robots-Tag:noindex
X-PUBLISHED-TTL:PT1H
BEGIN:VTIMEZONE
TZID:Europe/Brussels
BEGIN:DAYLIGHT
TZOFFSETFROM:+0100
TZOFFSETTO:+0200
TZNAME:CEST
DTSTART:20140330T010000
END:DAYLIGHT
BEGIN:STANDARD
TZOFFSETFROM:+0200
TZOFFSETTO:+0100
TZNAME:CET
DTSTART:20141026T010000
END:STANDARD
BEGIN:DAYLIGHT
TZOFFSETFROM:+0100
TZOFFSETTO:+0200
TZNAME:CEST
DTSTART:20150329T010000
END:DAYLIGHT
BEGIN:STANDARD
TZOFFSETFROM:+0200
TZOFFSETTO:+0100
TZNAME:CET
DTSTART:20151025T010000
END:STANDARD
BEGIN:DAYLIGHT
TZOFFSETFROM:+0100
TZOFFSETTO:+0200
TZNAME:CEST
DTSTART:20160327T010000
END:DAYLIGHT
BEGIN:STANDARD
TZOFFSETFROM:+0200
TZOFFSETTO:+0100
TZNAME:CET
DTSTART:20161030T010000
END:STANDARD
END:VTIMEZONE
BEGIN:VEVENT
DTSTART;TZID=Europe/Brussels:20150201T130000
DTEND;TZID=Europe/Brussels:20150201T130000
DTSTAMP:20260423T010155
CREATED:20150104T140833Z
LAST-MODIFIED:20150105T143553Z
UID:255-1422795600-1422795600@trieux.net
SUMMARY:Belote avec le Scrabble
DESCRIPTION:
URL:https://trieux.net/event/belote-avec-le-scrabble/
LOCATION:MPT Georges Brassens\, 77 avenue de la Libération\, Trieux\, 54750\, France
CATEGORIES:Associations
ATTACH;FMTTYPE=image/jpeg:https://trieux.net/wp-content/uploads/2015/01/jeu-cartes-belote.jpg
END:VEVENT
END:VCALENDAR